BEGIN:VCALENDAR
VERSION:2.0
PRODID:-//iPET Network - ECPv6.15.17//NONSGML v1.0//EN
CALSCALE:GREGORIAN
METHOD:PUBLISH
X-WR-CALNAME:iPET Network
X-ORIGINAL-URL:https://www.ipetnetwork.co.uk
X-WR-CALDESC:Events for iPET Network
REFRESH-INTERVAL;VALUE=DURATION:PT1H
X-Robots-Tag:noindex
X-PUBLISHED-TTL:PT1H
BEGIN:VTIMEZONE
TZID:UTC
BEGIN:STANDARD
TZOFFSETFROM:+0000
TZOFFSETTO:+0000
TZNAME:UTC
DTSTART:20250101T000000
END:STANDARD
END:VTIMEZONE
BEGIN:VEVENT
DTSTART;TZID=UTC:20260618T180000
DTEND;TZID=UTC:20260618T190000
DTSTAMP:20260419T185615
CREATED:20260331T112114Z
LAST-MODIFIED:20260331T112114Z
UID:12500-1781805600-1781809200@www.ipetnetwork.co.uk
SUMMARY:An Introduction to Centre Compliance - June 18
DESCRIPTION:An Event for our Approved Centres only. \nThis hour-long session will introduce our expectations with regards to: \n•        What do we mean by Compliance and why does it matter \n•        Identifying and reporting actual\, potential and perceived conflicts of interest \n•        Malpractice & Maladministration and Sanctions \n•        Reasonable Adjustments \nWe will be repeating the same content for the first 40 minutes of each meeting. The remaining 20 minutes will be for questions from centres or a time for centres to share good practice with each other. We must ensure confidentiality is maintained so we cannot discuss specific cases but can share guidance and good practice if you need assistance with updating policies\, implementing new procedures or have a situation you wish to discuss in a general context. \nClick “Book Now” to reserve your place\, and one of our team members will be in touch.
URL:https://www.ipetnetwork.co.uk/event/an-introduction-to-centre-compliance-june-18/
LOCATION:Online
CATEGORIES:Centre Training,Event,Online Training
ORGANIZER;CN="iPET Network LTD":MAILTO:info@ipetnetwork.co.uk
END:VEVENT
END:VCALENDAR